BEGIN:VCALENDAR
VERSION:2.0
PRODID:-//Il Giardino di Lulù - ECPv5.0.1//NONSGML v1.0//EN
CALSCALE:GREGORIAN
METHOD:PUBLISH
X-WR-CALNAME:Il Giardino di Lulù
X-ORIGINAL-URL:https://ilgiardinodilulu.it
X-WR-CALDESC:Eventi per Il Giardino di Lulù
BEGIN:VTIMEZONE
TZID:UTC
BEGIN:STANDARD
TZOFFSETFROM:+0000
TZOFFSETTO:+0000
TZNAME:UTC
DTSTART:20180101T000000
END:STANDARD
END:VTIMEZONE
BEGIN:VEVENT
DTSTART;TZID=UTC:20181123T080000
DTEND;TZID=UTC:20181130T170000
DTSTAMP:20260421T173007
CREATED:20181123T120147Z
LAST-MODIFIED:20181123T120147Z
UID:4632-1542960000-1543597200@ilgiardinodilulu.it
SUMMARY:28 novembre - L'Elefante e l'arcobaleno || Lettura\, Lab  e Merenda
DESCRIPTION:MERCOLEDI’ 28 NOVEMBRE \nEssere integrati è fondamentale\, ma non per questo occorre rinunciare a quello che ci rende speciali. Una storia tenera e semplice per insegnare ai nostri bimbi come sia importante riconoscere le peculiarità di ogni essere umano\, bipede o quadrupede che sia!\nNon perdiamo l’occasione di conoscere Elmer\, il delizioso e tenero elefante che ci aiuta ad interrogarci sul valore unico che ognuno di noi ha. \nIL LIBRO>>> ELMER\, L’ELEFANTE VARIOPINTO\nC’era una volta un branco di elefanti\, tutti dello stesso colore\, tranne uno. Elmer è di tutti i colori\, tranne che color elefante! Un giorno si sente stanco di essere diverso… e intraprende un viaggio che lo aiuterà a capire di più su se stesso. \nIL LABORATORIO>>> COSTRUIAMO L’ARCOBALENO SCACCIA PIOGGIA con materiali di riciclo! Ovatta\, rotoli di carta\, carta crespa colorata si trasformeranno in un meraviglioso arcobaleno che incanterà grandi e piccini \nL’ ARTISTA>>> David McKee \nNato nel Devon nel 1935\, David McKee ha pubblicato il suo primo libro nel 1964 e da allora ne ha scritti e illustrati più di trenta. Pur mantenendo la residenza in Inghilterra\, trascorre la maggior parte dell’anno a Nizza\, in Francia. La serie di Elmer\, l’elefante variopinto\, l’ha fatto conoscere e amare da milioni di bambini. \nDOVE? nello Spazio Gioca Con Me!\nOgni mercoledi’ dalle 16.45 alle 18.00\nInsieme alle nostre educatrici e al nostro personale potrete scoprire uno spazio ludico ricreativo settimanale dedicato all’incontro e alla socializzazione dei bambini tra i 9 e i 36 mesi\, accompagnati dai loro genitori.\nUna merenda tutti insieme sara’ occasione per giocare liberamente e per svolgere insieme ai vostri bimbi colorate attivita’\, come ad esempio:\n– travasi con materiali naturali (polenta\, farina\, legumi)\n– manipolazione con pongo e pasta di sale\n– pittura creativa tramite dita \,spugnette\, pennelli e materiali nuovi e inaspettati\n– collage con carta\, nastri e fotografie\n– canzoni mimate\, balli e girotondi\n– letture animate ad alta voce \nPer informazioni e prenotazioni:\nlulu@ilgiardinodilulu.it\nTel.0643418005 \nVi ricordiamo che potete trovare le nostre attivita’ anche su Mamma Cult \n#backtoschool #roma \n
URL:https://ilgiardinodilulu.it/event/28-novembre-lelefante-larcobaleno-lettura-lab-merenda/
ATTACH;FMTTYPE=image/jpeg:https://ilgiardinodilulu.it/wp-content/uploads/2018/11/ELEFANTE.jpg
END:VEVENT
END:VCALENDAR