BEGIN:VCALENDAR
VERSION:2.0
PRODID:-//Il Giardino di Lulù - ECPv5.0.1//NONSGML v1.0//EN
CALSCALE:GREGORIAN
METHOD:PUBLISH
X-WR-CALNAME:Il Giardino di Lulù
X-ORIGINAL-URL:https://ilgiardinodilulu.it
X-WR-CALDESC:Eventi per Il Giardino di Lulù
BEGIN:VTIMEZONE
TZID:UTC
BEGIN:STANDARD
TZOFFSETFROM:+0000
TZOFFSETTO:+0000
TZNAME:UTC
DTSTART:20180101T000000
END:STANDARD
END:VTIMEZONE
BEGIN:VEVENT
DTSTART;TZID=UTC:20180410T080000
DTEND;TZID=UTC:20180419T170000
DTSTAMP:20260421T184827
CREATED:20180410T094641Z
LAST-MODIFIED:20180410T094803Z
UID:4566-1523347200-1524157200@ilgiardinodilulu.it
SUMMARY:Musica&Biberon Open Lesson
DESCRIPTION:Giovedi’19 aprile vi aspettiamo per una lezione di prova gratuita del nostro corso pomeridiano “Musica&Biberon”.\nA partire dalle 16.30 il nostro spazio sara’ dedicato ai bimbi 0-36 mesi.\nEvento in collaborazione con CDM Centro Didattico Musicale Per informazioni e prenotazioni:\nlulu@ilgiardinodilulu.it\nTel.0643418005\n#kids #familyfirst #music #event #roma #municipioIII \n
URL:https://ilgiardinodilulu.it/event/4566/
ATTACH;FMTTYPE=image/jpeg:https://ilgiardinodilulu.it/wp-content/uploads/2018/04/meb-19-aprile.jpg
END:VEVENT
END:VCALENDAR