BEGIN:VCALENDAR
VERSION:2.0
PRODID:-//Il Giardino di Lulù - ECPv5.0.1//NONSGML v1.0//EN
CALSCALE:GREGORIAN
METHOD:PUBLISH
X-WR-CALNAME:Il Giardino di Lulù
X-ORIGINAL-URL:https://ilgiardinodilulu.it
X-WR-CALDESC:Eventi per Il Giardino di Lulù
BEGIN:VTIMEZONE
TZID:UTC
BEGIN:STANDARD
TZOFFSETFROM:+0000
TZOFFSETTO:+0000
TZNAME:UTC
DTSTART:20180101T000000
END:STANDARD
END:VTIMEZONE
BEGIN:VEVENT
DTSTART;TZID=UTC:20181112T080000
DTEND;TZID=UTC:20181122T170000
DTSTAMP:20260421T184351
CREATED:20181112T123905Z
LAST-MODIFIED:20181123T120256Z
UID:4620-1542009600-1542906000@ilgiardinodilulu.it
SUMMARY:E SE LA PIOGGIA POTESSE CANTARE?
DESCRIPTION:MERCOLEDI’ 14 NOVEMBRE\n16.45-18.00 \nE se la pioggia potesse cantare? Se le gocce che scendono dal cielo potessero essere racchiuse in un bastone magico che suona\, tintinna\, accompagna voi e i vostri bambini in melodie inaspettate? \nIL LIBRO>>> TAM TAM BUM – Una pentola e due cucchiai di legno\, tam tam tam e la musica del piccolo gufetto riempie di allegria la stanza. I suoi amici si uniscono uno per volta\, chi con due coperchi deng deng deng\, chi con una ciotola e un mestolo bim bum bim\, chi con uno scolapasta rovesciato zong zong zong. “Ma cosa state facendo?” chiede mamma gufo. “Musica!” è la risposta dei piccoli mentre un mescolarsi allegro di suoni si diffonde tutto intorno. In cambio di un po’ di silenzio\, mamma gufo offre loro una merenda ma quando questa sarà terminata cosa potranno fare i piccoli amici? Forse un armadio pieno di marmellate potrà essere lo spunto per un nuovo gioco. . \nIL LABORATORIO>>> COSTRUZIONE DEL BASTONE DELLA PIOGGIA. Con materiali assolutamente naturali e di riciclo vi aiuteremo a costruire insieme ai vostri bimbi un bastone della pioggia con cui suonare tutti insieme. Un tubo di cartone si trasformerà\, grazie a legumi\, semi\, stecchini\, colla\, amore e un pizzico di magia in uno strumento unico da provare prima tutti insieme e da portare poi a casa! \nL’ARTISTA>>> FRÉDÊRIC STERH- Sesto di sette fratelli\, ha frequentato per un breve periodo la Scuola Superiore Professionale di Graphic Arts di Parigi per poi lasciare gli studi e iniziare a lavorare. Dal suo primo album\, apparso nel 1983\, ha pubblicato oltre 60 lavori\, alcuni dei quali sono ormai diventati dei classici della letteratura per l’infanzia. \nTorna lo Spazio Gioca Con Me!\nOgni mercoledi’ dalle 16.45 alle 18.00\nInsieme alle nostre educatrici e al nostro personale potrete scoprire uno spazio ludico ricreativo settimanale dedicato all’incontro e alla socializzazione dei bambini tra i 9 e i 36 mesi\, accompagnati dai loro genitori.\nUna merenda tutti insieme sara’ occasione per giocare liberamente e per svolgere insieme ai vostri bimbi colorate attivita’\, come ad esempio:\n– travasi con materiali naturali (polenta\, farina\, legumi)\n– manipolazione con pongo e pasta di sale\n– pittura creativa tramite dita \,spugnette\, pennelli e materiali nuovi e inaspettati\n– collage con carta\, nastri e fotografie\n– canzoni mimate\, balli e girotondi\n– letture animate ad alta voce \nPer informazioni e prenotazioni:\nlulu@ilgiardinodilulu.it\nTel.0643418005 \nVi ricordiamo che potete trovare le nostre attivita’ anche su Mamma Cult \n#backtoschool #roma \n
URL:https://ilgiardinodilulu.it/event/4620/
ATTACH;FMTTYPE=image/jpeg:https://ilgiardinodilulu.it/wp-content/uploads/2018/11/bastone-della-pioggia.jpg
END:VEVENT
END:VCALENDAR