BEGIN:VCALENDAR
VERSION:2.0
PRODID:-//Il Giardino di Lulù - ECPv5.0.1//NONSGML v1.0//EN
CALSCALE:GREGORIAN
METHOD:PUBLISH
X-WR-CALNAME:Il Giardino di Lulù
X-ORIGINAL-URL:https://ilgiardinodilulu.it
X-WR-CALDESC:Eventi per Il Giardino di Lulù
BEGIN:VTIMEZONE
TZID:UTC
BEGIN:STANDARD
TZOFFSETFROM:+0000
TZOFFSETTO:+0000
TZNAME:UTC
DTSTART:20180101T000000
END:STANDARD
END:VTIMEZONE
BEGIN:VEVENT
DTSTART;TZID=UTC:20181116T080000
DTEND;TZID=UTC:20181130T170000
DTSTAMP:20260421T171432
CREATED:20181116T121728Z
LAST-MODIFIED:20181116T121753Z
UID:4628-1542355200-1543597200@ilgiardinodilulu.it
SUMMARY:EMOZIONI - LETTURA\, LAB E MERENDA
DESCRIPTION:MERCOLEDI’ 21 NOVEMBRE\n16.45-18.00 \nEMOZIONI\nLe emozioni sono dentro di noi! Ma possono uscire\, devono manifestarsi come lucciole luminose! Insegnare ai bimbi a gestirle e a viverle con serenità è fondamentale! Imparare si può’\, si deve\, attraverso il gioco e la condivisione!\nI LIBRI>>>\n– Emozioni di Mies Van Hout: un libro da sfogliare insieme per riconoscere attraverso richiami visivi le emozioni che ci accompagnano ogni giorno\n– I colori delle emozioni di Anna Llenas: Che cos’ha combinato il mostro dei colori? Ha mescolato le emozioni e ora bisogna disfare il groviglio. Riuscirà a rimettere a posto l’allegria\, la tristezza\, la rabbia\, la paura e la calma\, ognuna con il proprio colore? \n\nIL LABORATORIO>>> COSTRUIAMO IL BARATTOLO MONTESSORIANO DELLA CALMA e LE EMOZIONI IN VOLTO \nLE ARTISTE>>> \n-Anna Llenas vive a Barcellona\, dove dopo la laurea in Pubblicità e Pubbliche Relazioni ha conseguito il diploma in Disegno Grafico e un master in illustrazione. Ha lavorato come direttore artistico e creativo per diverse aziende e attualmente è impegnata come grafica e illustratrice free lance. Ha ideato anche una linea di prodotti\, dagli oggetti di cancelleria agli accessori per la casa\, decorati con le sue illustrazioni allegre e raffinate. \n-Mies van Hout (1962) illustra libri per bambini da quasi 25 anni.\nSi è specializzata nella creazione e illustrazione di libri per bambini. \nDOVE? nello Spazio Gioca Con Me!\nOgni mercoledi’ dalle 16.45 alle 18.00\nInsieme alle nostre educatrici e al nostro personale potrete scoprire uno spazio ludico ricreativo settimanale dedicato all’incontro e alla socializzazione dei bambini tra i 9 e i 36 mesi\, accompagnati dai loro genitori.\nUna merenda tutti insieme sara’ occasione per giocare liberamente e per svolgere insieme ai vostri bimbi colorate attivita’\, come ad esempio:\n– travasi con materiali naturali (polenta\, farina\, legumi)\n– manipolazione con pongo e pasta di sale\n– pittura creativa tramite dita \,spugnette\, pennelli e materiali nuovi e inaspettati\n– collage con carta\, nastri e fotografie\n– canzoni mimate\, balli e girotondi\n– letture animate ad alta voce \nPer informazioni e prenotazioni:\nlulu@ilgiardinodilulu.it\nTel.0643418005 \nVi ricordiamo che potete trovare le nostre attivita’ anche su Mamma Cult \n#backtoschool #roma \n\n
URL:https://ilgiardinodilulu.it/event/4628/
ATTACH;FMTTYPE=image/jpeg:https://ilgiardinodilulu.it/wp-content/uploads/2018/11/EMOZIONI.jpg
END:VEVENT
END:VCALENDAR