BEGIN:VCALENDAR
VERSION:2.0
PRODID:-//Il Giardino di Lulù - ECPv5.0.1//NONSGML v1.0//EN
CALSCALE:GREGORIAN
METHOD:PUBLISH
X-WR-CALNAME:Il Giardino di Lulù
X-ORIGINAL-URL:https://ilgiardinodilulu.it
X-WR-CALDESC:Eventi per Il Giardino di Lulù
BEGIN:VTIMEZONE
TZID:UTC
BEGIN:STANDARD
TZOFFSETFROM:+0000
TZOFFSETTO:+0000
TZNAME:UTC
DTSTART:20180101T000000
END:STANDARD
END:VTIMEZONE
BEGIN:VEVENT
DTSTART;TZID=UTC:20181211T080000
DTEND;TZID=UTC:20190101T170000
DTSTAMP:20260421T171923
CREATED:20181211T115712Z
LAST-MODIFIED:20190109T123049Z
UID:4639-1544515200-1546362000@ilgiardinodilulu.it
SUMMARY:15 DICEMBRE - NATALE IN GIARDINO
DESCRIPTION:SABATO 15 DICEMBRE 10.30-12.00 \nNATALE IN GIARDINO \nUna mattinata insieme per gli auguri di #Natale!\nAuguri nel nostro stile\, pieni di colore e di creatività’.\nVi aspettiamo sabato 15 dicembre! \nLO SPETTACOLO>>> A cura di Maria Zamponi\, che racconterà grazie alla magia dei suoi #burattini una storia tratta da La Freccia Azzurra di Gianni Rodari. A seguire laboratorio di costruzione del burattino. \n\nEtà consigliata 18 mesi – 6 anni \nPrenotazioni obbligatoria\nlulu@ilgiardinodilulu.it\nTel. 0643418005 \nCosto: 10\,00 euro a bimbo!\nVi aspettiamo per un brindisi all’insegna della #fantasia! \n#Christmas #familyfirst \n\n
URL:https://ilgiardinodilulu.it/event/4639/
ATTACH;FMTTYPE=image/jpeg:https://ilgiardinodilulu.it/wp-content/uploads/2018/12/NATALE-2018.jpg
END:VEVENT
END:VCALENDAR