BEGIN:VCALENDAR
VERSION:2.0
PRODID:-//Il Giardino di Lulù - ECPv5.0.1//NONSGML v1.0//EN
CALSCALE:GREGORIAN
METHOD:PUBLISH
X-WR-CALNAME:Il Giardino di Lulù
X-ORIGINAL-URL:https://ilgiardinodilulu.it
X-WR-CALDESC:Eventi per Il Giardino di Lulù
BEGIN:VTIMEZONE
TZID:Europe/Rome
BEGIN:DAYLIGHT
TZOFFSETFROM:+0100
TZOFFSETTO:+0200
TZNAME:CEST
DTSTART:20210328T010000
END:DAYLIGHT
BEGIN:STANDARD
TZOFFSETFROM:+0200
TZOFFSETTO:+0100
TZNAME:CET
DTSTART:20211031T010000
END:STANDARD
END:VTIMEZONE
BEGIN:VEVENT
DTSTART;VALUE=DATE:20210526
DTEND;VALUE=DATE:20210801
DTSTAMP:20260421T124646
CREATED:20210526T143015Z
LAST-MODIFIED:20210608T165824Z
UID:5320-1621987200-1627775999@ilgiardinodilulu.it
SUMMARY:Centro Estivo 2021
DESCRIPTION:CENTRO ESTIVO 2021 – BIMBI 3/11 ANNI \n\n\n\n\n\nCi siamo\, il Lulù Village sta per tornare! \nDal 1 al 30 Luglio il nostro centro estivo per i bimbi dai 3 agli 11 anni aprirà le porte.\nAll’interno della splendida cornice de Il Giardino Incantato  di Villa Borghese \, saranno tante le attività che riempiranno le giornate dei nostri piccoli ospiti\, con uno staff qualificato ed in piena sicurezza!\n\n\nPer maggiori info e prenotazioni:\n 06 43418005\n lulu@ilgiardinodilulu.it\n www.ilgiardinodilulu.it\n\n\n\n\n\n\n\n\n
URL:https://ilgiardinodilulu.it/event/5320/
CATEGORIES:evento
ATTACH;FMTTYPE=image/jpeg:https://ilgiardinodilulu.it/wp-content/uploads/2021/05/locandina-lulu-village-2021-scaled.jpg
END:VEVENT
END:VCALENDAR