BEGIN:VCALENDAR
VERSION:2.0
PRODID:-//Il Giardino di Lulù - ECPv5.0.1//NONSGML v1.0//EN
CALSCALE:GREGORIAN
METHOD:PUBLISH
X-WR-CALNAME:Il Giardino di Lulù
X-ORIGINAL-URL:https://ilgiardinodilulu.it
X-WR-CALDESC:Eventi per Il Giardino di Lulù
BEGIN:VTIMEZONE
TZID:UTC
BEGIN:STANDARD
TZOFFSETFROM:+0000
TZOFFSETTO:+0000
TZNAME:UTC
DTSTART:20180101T000000
END:STANDARD
END:VTIMEZONE
BEGIN:VEVENT
DTSTART;TZID=UTC:20180917T080000
DTEND;TZID=UTC:20181031T170000
DTSTAMP:20260421T184950
CREATED:20180917T111717Z
LAST-MODIFIED:20180917T111717Z
UID:4594-1537171200-1541005200@ilgiardinodilulu.it
SUMMARY:Back to Creativity 2018-2019
DESCRIPTION:Tantissime le attivita’ che torneranno a colorare le nostre giornate insieme……\nPrenota la tua lezione di prova: \nGIOCA CON ME\nLudoteca per bambini & genitori\n0-36 mesi\nMERCOLEDì 16.45-18.00\nINCONTRO DI PROVA MERCOLEDI’ 26 SETTEMBRE \n  \nMUSICA E BIBERON\nper bambini da 0 a 36 mesi accompagnati da un adulto di riferimento\nGIOVEDI’\n16.45 bimbi 0 – 18/24 mesi\n17\,30 bimbi 18/24 – 36 mesi\nLEZIONE DI PROVA GIOVEDI’ 27 SETTEMBRE \n  \nINSIEME IN MOVIMENTO\nIncontri di danza creativa per mamme e bimbi\nMARTEDì\n16.45 bimbi 14-36 mesi\n17.30 bimbi 6-13 mesi\nLEZIONE PROVA MARTEDI’ 2 OTTOBRE \n \n#ilgiardinodilulu\n#backtoschool \n
URL:https://ilgiardinodilulu.it/event/back-to-creativity-2018-2019/
ATTACH;FMTTYPE=image/jpeg:https://ilgiardinodilulu.it/wp-content/uploads/2018/09/back-to-creativity-2018.jpg
END:VEVENT
END:VCALENDAR