BEGIN:VCALENDAR
VERSION:2.0
PRODID:-//Il Giardino di Lulù - ECPv5.0.1//NONSGML v1.0//EN
CALSCALE:GREGORIAN
METHOD:PUBLISH
X-WR-CALNAME:Il Giardino di Lulù
X-ORIGINAL-URL:https://ilgiardinodilulu.it
X-WR-CALDESC:Eventi per Il Giardino di Lulù
BEGIN:VTIMEZONE
TZID:UTC
BEGIN:STANDARD
TZOFFSETFROM:+0000
TZOFFSETTO:+0000
TZNAME:UTC
DTSTART:20170101T000000
END:STANDARD
END:VTIMEZONE
BEGIN:VEVENT
DTSTART;TZID=UTC:20170421T120000
DTEND;TZID=UTC:20170430T170000
DTSTAMP:20260421T213819
CREATED:20170308T130156Z
LAST-MODIFIED:20170503T100935Z
UID:4444-1492776000-1493571600@ilgiardinodilulu.it
SUMMARY:BRUNCH°ETTO nel Giardino del Lian
DESCRIPTION:  \n\nDOMENICA 30 aprile 2017 appuntamento sul barcone del Lian Club con il BRUNCH-etto!!\nDalle dalle 12 alle 15 riprende l’evento che ha animato le domeniche romane di Marzo. Sia in barca sia in Terrazza baciati dal sole o Sottocoperta al calduccio\,ondeggiando sul fiume venite per il buon cibo e per i laboratori organizzati da Il Giardino di Lulù – Ludoteca\, Spazio Be.Bi.\, Asilo Nido.\nCONSIGLIATA LA PRENOTAZIONE !!\nMiglior modalità:\n-Compilare direttamente il modulo di prenotazione alla voce bistrot dal sito del Lian www.lianclub.it\n-Telefoni: 349.4407221 – 06.87600001\nContinuiamo a vivere con tutti voi questa avventura! Vi aspettiamo per accogliere al meglio i nostri amici e le loro famiglie con i nostri fantastici laboratori per bambini e spettacoli mirabolanti !\nLaboratori gratuiti per i bambini dai 3 ai 10 anni!\nLABORATORIO DI DOMENICA 30 APRILE: BRUNCHETTO CON RITRATTO\n\n
URL:https://ilgiardinodilulu.it/event/brunchetto-nel-giardino-del-lian/
ATTACH;FMTTYPE=image/jpeg:https://ilgiardinodilulu.it/wp-content/uploads/2017/03/brunchetto-ritratto.jpeg
END:VEVENT
END:VCALENDAR