BEGIN:VCALENDAR
VERSION:2.0
PRODID:-//Il Giardino di Lulù - ECPv5.0.1//NONSGML v1.0//EN
CALSCALE:GREGORIAN
METHOD:PUBLISH
X-WR-CALNAME:Il Giardino di Lulù
X-ORIGINAL-URL:https://ilgiardinodilulu.it
X-WR-CALDESC:Eventi per Il Giardino di Lulù
BEGIN:VTIMEZONE
TZID:Europe/Rome
BEGIN:DAYLIGHT
TZOFFSETFROM:+0100
TZOFFSETTO:+0200
TZNAME:CEST
DTSTART:20230326T010000
END:DAYLIGHT
BEGIN:STANDARD
TZOFFSETFROM:+0200
TZOFFSETTO:+0100
TZNAME:CET
DTSTART:20231029T010000
END:STANDARD
END:VTIMEZONE
BEGIN:VEVENT
DTSTART;TZID=Europe/Rome:20230518T080000
DTEND;TZID=Europe/Rome:20230731T170000
DTSTAMP:20260421T124731
CREATED:20230518T122915Z
LAST-MODIFIED:20230518T122916Z
UID:5369-1684396800-1690822800@ilgiardinodilulu.it
SUMMARY:Centro estivo 2023
DESCRIPTION:\nSta per tornare il centro estivo al Giardino di Lulù per i bambini da 2 a 4 anni!\n\n\nTante attività diverse ogni giorno: pittura\, manipolazione\, travasi\, letture\, musica e yoga.\n\n\n Tanti giochi all’aria aperta: bolle di sapone\, giochi con l’acqua\, movimento.\n\n\n Una cucina interna con alimenti  a km 0\, una stanza per la nanna fresca e silenziosa\, personale qualificato.\n\n\n\n\n\n Giugno e Luglio 2023\n\n\n Dal lunedì al venerdì dalle 8.00 alle 13.00 oppure dalle 8.00 alle 16.30\n\n\n Frequenza bisettimanale e mensile\n\n\n\n\n\n Per informazioni e iscrizioni:\n\n\n lulu@ilgiardinodilulu.it\n\n\n 3516166581\n\n\n\n\n\n\n\n\n
URL:https://ilgiardinodilulu.it/event/centro-estivo-2023/
CATEGORIES:evento
ATTACH;FMTTYPE=image/jpeg:https://ilgiardinodilulu.it/wp-content/uploads/2023/05/centro-estivo-23.jpg
END:VEVENT
END:VCALENDAR