BEGIN:VCALENDAR
VERSION:2.0
PRODID:-//Il Giardino di Lulù - ECPv5.0.1//NONSGML v1.0//EN
CALSCALE:GREGORIAN
METHOD:PUBLISH
X-WR-CALNAME:Il Giardino di Lulù
X-ORIGINAL-URL:https://ilgiardinodilulu.it
X-WR-CALDESC:Eventi per Il Giardino di Lulù
BEGIN:VTIMEZONE
TZID:UTC
BEGIN:STANDARD
TZOFFSETFROM:+0000
TZOFFSETTO:+0000
TZNAME:UTC
DTSTART:20180101T000000
END:STANDARD
END:VTIMEZONE
BEGIN:VEVENT
DTSTART;TZID=UTC:20181012T080000
DTEND;TZID=UTC:20181018T170000
DTSTAMP:20260421T184700
CREATED:20181012T105324Z
LAST-MODIFIED:20181012T112440Z
UID:4598-1539331200-1539882000@ilgiardinodilulu.it
SUMMARY:COLORA LA TUA FOGLIA
DESCRIPTION:MERCOLEDì 17 OTTOBRE 16.45 \nCon la tecnica del #frottage useremo i doni preziosi della natura (foglie\, rametti e sassi) per realizzare tanti piccoli capolavori.\nLeggeremo insieme la storia di Tutino che ci condurra’ tra i colori degli alberi e delle foglie di autunno! \n>> LA TECNICA: Il frottage è una tecnica di disegno e pittura basata sul principio dello sfregamento. Utilizzata anticamente sia in Cina che in Grecia \, dove veniva utilizzata per ricavare delle copie di bassorilievi su carta di riso o pergamena\, venne riscoperta in epoca moderna dall’artista tedesco Max Ernst mentre osserva il pavimento della sua camera. \nIL LIBRO>>> Tutino è un piccolo esploratore. Ama divertirsi all’aria aperta ma non esce mai di casa senza indossare una buffa tuta da animaletto. Da chi si vestirà oggi? Il costume da lupo è quello che ci vuole per arrampicarsi su un albero e giocare tra le foglie \n>>L’ ARTISTA : «… Tutti i tipi di materiali che potrebbero essere nel mio campo visivo: le foglie e le loro nervature\, i bordi sfilacciati di un sacchetto di tela\, le pennellate di una pittura moderna\, un filo di una bobina\, e così via.»\n(Max Ernst\, “Au-delà de la peinture”\, Cahiers d’Art\, 1937) \nTorna lo Spazio Gioca Con Me!\nOgni mercoledi’ dalle 16.45 alle 18.15\nInsieme alle nostre educatrici e al nostro personale potrete scoprire uno spazio ludico ricreativo settimanale dedicato all’incontro e alla socializzazione dei bambini tra i 9 e i 36 mesi\, accompagnati dai loro genitori.\nUna merenda tutti insieme sara’ occasione per giocare liberamente e per svolgere insieme ai vostri bimbi colorate attivita’\, come ad esempio:\n– travasi con materiali naturali (polenta\, farina\, legumi)\n– manipolazione con pongo e pasta di sale\n– pittura creativa tramite dita \,spugnette\, pennelli e materiali nuovi e inaspettati\n– collage con carta\, nastri e fotografie\n– canzoni mimate\, balli e girotondi\n– letture animate ad alta voce \nPer informazioni e prenotazioni:\nlulu@ilgiardinodilulu.it\nTel.0643418005 \n
URL:https://ilgiardinodilulu.it/event/colora-la-tua-foglia/
ATTACH;FMTTYPE=image/jpeg:https://ilgiardinodilulu.it/wp-content/uploads/2018/10/colora-la-tua-foglia-17-ottobre-2018.jpg
END:VEVENT
END:VCALENDAR