BEGIN:VCALENDAR
VERSION:2.0
PRODID:-//Il Giardino di Lulù - ECPv5.0.1//NONSGML v1.0//EN
CALSCALE:GREGORIAN
METHOD:PUBLISH
X-WR-CALNAME:Il Giardino di Lulù
X-ORIGINAL-URL:https://ilgiardinodilulu.it
X-WR-CALDESC:Eventi per Il Giardino di Lulù
BEGIN:VTIMEZONE
TZID:UTC
BEGIN:STANDARD
TZOFFSETFROM:+0000
TZOFFSETTO:+0000
TZNAME:UTC
DTSTART:20160101T000000
END:STANDARD
END:VTIMEZONE
BEGIN:VEVENT
DTSTART;TZID=UTC:20161202T160000
DTEND;TZID=UTC:20161202T170000
DTSTAMP:20260422T004322
CREATED:20161122T122058Z
LAST-MODIFIED:20161123T125625Z
UID:4384-1480694400-1480698000@ilgiardinodilulu.it
SUMMARY:DEAR SANTA...
DESCRIPTION:Scriviamo tutti insieme la Letterina a Babbo Natale! Venerdì 2 Dicembre 2016 il Doposcuola sarà interamente dedicato a raccontare con il cuore\, con le mani\, con i pensieri\, con i colori e l’espressività ogni più piccolo desiderio.\nOH OH OH!!!!!\ndalle 16 alle 18\nPrenotazione consigliata lulu@ilgiardinodilulu.it\n \n
URL:https://ilgiardinodilulu.it/event/dear-santa/
ATTACH;FMTTYPE=image/jpeg:https://ilgiardinodilulu.it/wp-content/uploads/2016/11/15094280_1157284697690168_726956811215415164_n.jpeg
END:VEVENT
END:VCALENDAR