BEGIN:VCALENDAR
VERSION:2.0
PRODID:-//Il Giardino di Lulù - ECPv5.0.1//NONSGML v1.0//EN
CALSCALE:GREGORIAN
METHOD:PUBLISH
X-WR-CALNAME:Il Giardino di Lulù
X-ORIGINAL-URL:https://ilgiardinodilulu.it
X-WR-CALDESC:Eventi per Il Giardino di Lulù
BEGIN:VTIMEZONE
TZID:UTC
BEGIN:STANDARD
TZOFFSETFROM:+0000
TZOFFSETTO:+0000
TZNAME:UTC
DTSTART:20190101T000000
END:STANDARD
END:VTIMEZONE
BEGIN:VEVENT
DTSTART;TZID=UTC:20190320T080000
DTEND;TZID=UTC:20190414T170000
DTSTAMP:20260421T155716
CREATED:20190327T133913Z
LAST-MODIFIED:20190403T103153Z
UID:4689-1553068800-1555261200@ilgiardinodilulu.it
SUMMARY:FIORI DI PRIMAVERA - 3 aprile 16.45
DESCRIPTION:Tutto quello che ci circonda ha una storia\, fa parte di un ciclo e poche semplici parole accompagnate da una musica allegra\, lo raccontano alla perfezione.\nIL LIBRO>>> “Ci vuole un fiore”- Una storia\, una filastrocca\, una canzone. Questo testo di Rodari ha accompagnato tanti bambini durante la loro infanzia\, ma come ogni cosa nasconde una storia\, un messaggio\, anche queste semplici parole hanno un significato profondo: tutte le cose sono collegate tra loro e il fiore\, simbolo dell’amore è necessario affinché tutto esista in questo mondo. \nL’ARTISTA>>> Gianni Rodari è stato uno scrittore\, pedagogista\, giornalista e poeta italiano\, specializzato in letteratura per l’infanzia e tradotto in molte lingue. Unico vincitore italiano del prestigioso Premio Hans Christian Andersen. \nIL LABORATORIO>>> “Fiori di primavera”. In previsione dell’arrivo della primavera\, realizzeremo dei bellissimi fiori con il sale colorato \nDOVE? nello Spazio Gioca Con Me!\nOgni mercoledi’ dalle 16.45 alle 18.00\nInsieme alle nostre educatrici e al nostro personale potrete scoprire uno spazio ludico ricreativo settimanale dedicato all’incontro e alla socializzazione dei bambini tra i 9 e i 36 mesi\, accompagnati dai loro genitori.\nUna merenda tutti insieme sara’ occasione per giocare liberamente e per svolgere insieme ai vostri bimbi colorate attivita’\, come ad esempio:\n– travasi con materiali naturali (polenta\, farina\, legumi)\n– manipolazione con pongo e pasta di sale\n– pittura creativa tramite dita \,spugnette\, pennelli e materiali nuovi e inaspettati\n– collage con carta\, nastri e fotografie\n– canzoni mimate\, balli e girotondi\n– letture animate ad alta voce\nPer informazioni e prenotazioni:\nlulu@ilgiardinodilulu.it\nTel.0643418005\nVi ricordiamo che potete trovare le nostre attivita’ anche su Mamma Cult \n
URL:https://ilgiardinodilulu.it/event/fiori-primavera-27-marzo-16-45/
ATTACH;FMTTYPE=image/jpeg:https://ilgiardinodilulu.it/wp-content/uploads/2019/03/il-giardino-di-lulu-roma-salario-spazio-gioca-con-me-fiori-primavera.jpg
END:VEVENT
END:VCALENDAR