BEGIN:VCALENDAR
VERSION:2.0
PRODID:-//Il Giardino di Lulù - ECPv5.0.1//NONSGML v1.0//EN
CALSCALE:GREGORIAN
METHOD:PUBLISH
X-WR-CALNAME:Il Giardino di Lulù
X-ORIGINAL-URL:https://ilgiardinodilulu.it
X-WR-CALDESC:Eventi per Il Giardino di Lulù
BEGIN:VTIMEZONE
TZID:UTC
BEGIN:STANDARD
TZOFFSETFROM:+0000
TZOFFSETTO:+0000
TZNAME:UTC
DTSTART:20170101T000000
END:STANDARD
END:VTIMEZONE
BEGIN:VEVENT
DTSTART;TZID=UTC:20170615T080000
DTEND;TZID=UTC:20170623T170000
DTSTAMP:20260421T214043
CREATED:20170615T115453Z
LAST-MODIFIED:20170615T115453Z
UID:4504-1497513600-1498237200@ilgiardinodilulu.it
SUMMARY:GARDEN PARTY
DESCRIPTION:Venghino bambini Venghino! \n Mamme\, papa’\, nonne\, zii\, fratellini e sorelline.\nGiovedì 22 Giungo 2017 #gardenparty a Il Giardino di Lulù – Ludoteca\, Spazio Be.Bi.\, Asilo Nido a partire dalle ore 16.00.\nMerenda tutti insieme\, giochi\, musica e una storia straordinaria nel nido di Eric Battut.\nSalutiamo l’arrivo dell’estate in buona compagnia\, con una merenda gustosa\, uno spettacolo di burattini a cura di Maria Assunta Salvatore e tanti divertenti giochi musicali. \nPer quale motivo potresti mancare? \nINFO \n0643418005 \ningresso Libero \n
URL:https://ilgiardinodilulu.it/event/garden-party/
ATTACH;FMTTYPE=image/jpeg:https://ilgiardinodilulu.it/wp-content/uploads/2017/06/festa-fine-anno-post-2017.jpeg
END:VEVENT
END:VCALENDAR