BEGIN:VCALENDAR
VERSION:2.0
PRODID:-//Il Giardino di Lulù - ECPv5.0.1//NONSGML v1.0//EN
CALSCALE:GREGORIAN
METHOD:PUBLISH
X-WR-CALNAME:Il Giardino di Lulù
X-ORIGINAL-URL:https://ilgiardinodilulu.it
X-WR-CALDESC:Eventi per Il Giardino di Lulù
BEGIN:VTIMEZONE
TZID:UTC
BEGIN:STANDARD
TZOFFSETFROM:+0000
TZOFFSETTO:+0000
TZNAME:UTC
DTSTART:20180101T000000
END:STANDARD
END:VTIMEZONE
BEGIN:VEVENT
DTSTART;TZID=UTC:20180122T080000
DTEND;TZID=UTC:20180228T170000
DTSTAMP:20260421T202841
CREATED:20180122T114943Z
LAST-MODIFIED:20180122T114943Z
UID:4539-1516608000-1519837200@ilgiardinodilulu.it
SUMMARY:GIOCA CON LA MUSICA
DESCRIPTION:GIOCA CON LA MUSICA!\nTrova la tua nota\, scopri il tuo arrangiamento! Colora la tua partitura\, improvvisa una nuova melodia!\nTi aspettiamo ogni giovedi’ per sperimentare la tua passione\, per imparare divertendoti e giocare insieme al Centro Didattico Musicale qui da noi\, al Giardino di Lulu’.\nUna volta a settimana\, un’ora dedicata ai bimbi da 24 a 36 mesi\, piccoli aspiranti Musicisti!\nPer informazioni e prenotazioni\nlulu@ilgiardinodilulu.it\n\n
URL:https://ilgiardinodilulu.it/event/gioca-la-musica/
ATTACH;FMTTYPE=image/jpeg:https://ilgiardinodilulu.it/wp-content/uploads/2018/01/musica-grandi-2018.jpg
END:VEVENT
END:VCALENDAR