BEGIN:VCALENDAR
VERSION:2.0
PRODID:-//Il Giardino di Lulù - ECPv5.0.1//NONSGML v1.0//EN
CALSCALE:GREGORIAN
METHOD:PUBLISH
X-WR-CALNAME:Il Giardino di Lulù
X-ORIGINAL-URL:https://ilgiardinodilulu.it
X-WR-CALDESC:Eventi per Il Giardino di Lulù
BEGIN:VTIMEZONE
TZID:UTC
BEGIN:STANDARD
TZOFFSETFROM:+0000
TZOFFSETTO:+0000
TZNAME:UTC
DTSTART:20180101T000000
END:STANDARD
END:VTIMEZONE
BEGIN:VEVENT
DTSTART;TZID=UTC:20181030T080000
DTEND;TZID=UTC:20181111T170000
DTSTAMP:20260421T184950
CREATED:20181030T131246Z
LAST-MODIFIED:20181030T131246Z
UID:4608-1540886400-1541955600@ilgiardinodilulu.it
SUMMARY:HALLOWEEN LAB
DESCRIPTION:MERCOLEDì 31 OTTOBRE  H 17.00 \n“Halloween Lab ”\nE se i mostri piu’ spaventosi dell’anno fossero divertenti e buffi amici con cui giocare? Zucche\, lanterne\, accessori ed oggetti da creare insieme per rendere unico un pomeriggio dedicato ad #Halloween\, festa celebrata in tutto il mondo!\nDolcetto o lavoretto? Venite a trascorrere il vostro pomeriggio in compagnia della vostra spaventosa fantasia!! Materiali di riciclo si trasformeranno grazie alla creativita’ di mamme e bimbi! \n>> A CHI E’ADATTO: Laboratorio aperto ai bimbi dai 18 mesi ai 6 anni. I più piccoli sono comunque i benvenuti!! con l’aiuto dei loro genitori potranno partecipare a tutte le attivià proposte;-) \n\nPrenotazione consigliata \n\n
URL:https://ilgiardinodilulu.it/event/halloween-lab/
ATTACH;FMTTYPE=image/jpeg:https://ilgiardinodilulu.it/wp-content/uploads/2018/10/HALLOWEEN-2018.jpg
END:VEVENT
END:VCALENDAR