BEGIN:VCALENDAR
VERSION:2.0
PRODID:-//Il Giardino di Lulù - ECPv5.0.1//NONSGML v1.0//EN
CALSCALE:GREGORIAN
METHOD:PUBLISH
X-WR-CALNAME:Il Giardino di Lulù
X-ORIGINAL-URL:https://ilgiardinodilulu.it
X-WR-CALDESC:Eventi per Il Giardino di Lulù
BEGIN:VTIMEZONE
TZID:UTC
BEGIN:STANDARD
TZOFFSETFROM:+0000
TZOFFSETTO:+0000
TZNAME:UTC
DTSTART:20170101T000000
END:STANDARD
END:VTIMEZONE
BEGIN:VEVENT
DTSTART;TZID=UTC:20170203T080000
DTEND;TZID=UTC:20170203T170000
DTSTAMP:20260421T230919
CREATED:20170124T125647Z
LAST-MODIFIED:20170124T125757Z
UID:4415-1486108800-1486141200@ilgiardinodilulu.it
SUMMARY:HAPPY HOURS FAMILY FRIENDLY
DESCRIPTION:HAPPY HOURS FAMILY FRIENDLY\nvenerdì 3 febbraio\ndalle 17.30 alle 19.00\nMomento divertente per le mamme e i bambini. Le mamme potranno rilassarsi e chiacchierare\, mentre i bimbi si divertiranno con un laboratorio creativo\, con giochi e palloncini. A seguire aperitivo per grandi e piccoli.\nCosto 12 euro\, 10 euro per gli iscritti al nido.\nPrenotazione consigliata \n  \n
URL:https://ilgiardinodilulu.it/event/happy-hours-family-friendly/
ATTACH;FMTTYPE=image/jpeg:https://ilgiardinodilulu.it/wp-content/uploads/2017/01/IMG_3967-1-scaled.jpg
END:VEVENT
END:VCALENDAR