BEGIN:VCALENDAR
VERSION:2.0
PRODID:-//Il Giardino di Lulù - ECPv5.0.1//NONSGML v1.0//EN
CALSCALE:GREGORIAN
METHOD:PUBLISH
X-WR-CALNAME:Il Giardino di Lulù
X-ORIGINAL-URL:https://ilgiardinodilulu.it
X-WR-CALDESC:Eventi per Il Giardino di Lulù
BEGIN:VTIMEZONE
TZID:Europe/Rome
BEGIN:DAYLIGHT
TZOFFSETFROM:+0100
TZOFFSETTO:+0200
TZNAME:CEST
DTSTART:20210328T010000
END:DAYLIGHT
BEGIN:STANDARD
TZOFFSETFROM:+0200
TZOFFSETTO:+0100
TZNAME:CET
DTSTART:20211031T010000
END:STANDARD
END:VTIMEZONE
BEGIN:VEVENT
DTSTART;TZID=Europe/Rome:20210413T080000
DTEND;TZID=Europe/Rome:20211231T170000
DTSTAMP:20260421T124355
CREATED:20210413T120946Z
LAST-MODIFIED:20210928T123139Z
UID:5310-1618300800-1640970000@ilgiardinodilulu.it
SUMMARY:Iscrizioni anno 2021-2022
DESCRIPTION:\n\n\n\n\n*Sono aperte le iscrizioni per l’anno scolastico 2021/2022*\nVieni a scoprire Il Giardino di Lulù e vivi la magia che si cela dietro il nostro cancello viola.\n\n\nUno staff qualificato ed esperto è pronto ad accogliere i nuovi piccoli ospiti con attività #Montessori in piccoli gruppi\, cucina sana\, consulenza pediatrica e tante attività all’aria aperta.\nLavoriamo in piena sicurezza e nel massimo rispetto delle norme anti-covid\, se vuoi avere maggiori informazioni contattaci a\nlulu@ilgiardinodilulu.it o telefonicamente allo 0643418005\n\n\n#securityfirst #familyfirst #roma #asilonido #iscrizioni #metodomontessori\n\n\n\n\n\n
URL:https://ilgiardinodilulu.it/event/iscrizioni-anno-2021-2022/
CATEGORIES:evento
ATTACH;FMTTYPE=image/jpeg:https://ilgiardinodilulu.it/wp-content/uploads/2021/04/InShot_20210413_171135055.jpg
END:VEVENT
END:VCALENDAR