BEGIN:VCALENDAR
VERSION:2.0
PRODID:-//Il Giardino di Lulù - ECPv5.0.1//NONSGML v1.0//EN
CALSCALE:GREGORIAN
METHOD:PUBLISH
X-WR-CALNAME:Il Giardino di Lulù
X-ORIGINAL-URL:https://ilgiardinodilulu.it
X-WR-CALDESC:Eventi per Il Giardino di Lulù
BEGIN:VTIMEZONE
TZID:UTC
BEGIN:STANDARD
TZOFFSETFROM:+0000
TZOFFSETTO:+0000
TZNAME:UTC
DTSTART:20190101T000000
END:STANDARD
END:VTIMEZONE
BEGIN:VEVENT
DTSTART;TZID=UTC:20190327T080000
DTEND;TZID=UTC:20190731T170000
DTSTAMP:20260421T155657
CREATED:20190327T135317Z
LAST-MODIFIED:20190605T110454Z
UID:4692-1553673600-1564592400@ilgiardinodilulu.it
SUMMARY:ISCRIZIONI ANNO SCOLASTICO 2019/2020
DESCRIPTION: \nTutti pronti per un nuovo anno? Qui a Il Giardino di Lulù – Ludoteca\, Spazio Be.Bi.\, Asilo Nido stiamo pianificando il percorso attraverso la meraviglia per tutti i nuovi bimbi che arriveranno a partire da settembre 2019!\nVenite a conoscerci\, passate a visitare gli spazi\, a conoscere le persone\, la filosofia\, la storia e le attività che faranno trascorrere ai vostri bimbi giornate felici e creative! \n\nPer informazioni\, costi e appuntamenti:\nscrivete in pagina FB\, oppure a lulu@ilgiardinodilulu.it\no chiamate il numero 0643418005 \n\n
URL:https://ilgiardinodilulu.it/event/iscrizioni-anno-scolastico-20192020/
ATTACH;FMTTYPE=image/jpeg:https://ilgiardinodilulu.it/wp-content/uploads/2019/03/54521902_2126146394137322_3023992387560013824_n.jpg
END:VEVENT
END:VCALENDAR