BEGIN:VCALENDAR
VERSION:2.0
PRODID:-//Il Giardino di Lulù - ECPv5.0.1//NONSGML v1.0//EN
CALSCALE:GREGORIAN
METHOD:PUBLISH
X-WR-CALNAME:Il Giardino di Lulù
X-ORIGINAL-URL:https://ilgiardinodilulu.it
X-WR-CALDESC:Eventi per Il Giardino di Lulù
BEGIN:VTIMEZONE
TZID:UTC
BEGIN:STANDARD
TZOFFSETFROM:+0000
TZOFFSETTO:+0000
TZNAME:UTC
DTSTART:20180101T000000
END:STANDARD
END:VTIMEZONE
BEGIN:VEVENT
DTSTART;TZID=UTC:20180724T080000
DTEND;TZID=UTC:20190304T170000
DTSTAMP:20260421T185053
CREATED:20180724T095145Z
LAST-MODIFIED:20190308T130004Z
UID:4580-1532419200-1551718800@ilgiardinodilulu.it
SUMMARY:#PROMOZIONE 2019 **sconti per chi si iscrive entro febbraio 2019 **
DESCRIPTION: \nULTIMI POSTI PER L’A.E. 2018-2019 \nI passaggi sono fondamentali. A volte sono semplici e naturali\, a volte invece occorre un piccolo sforzo in più. Da sempre\, qui a Il Giardino di Lulù – Ludoteca\, Spazio Be.Bi.\, Asilo Nido cerchiamo di renderli semplici\, di trasmettere il valore positivo che la crescita ha. Aspettiamo i bimbi più grandi per aiutarli a vivere un momento di passaggio che li prepari alla scuola materna\, che li aiuti ad inserirsi in una realtá nuova. Crediamo fermamente che vivere alcuni mesi in uno spazio curato\, familiare e raccolto possa essere di grande aiuto per preparare al meglio mamme e bimbi al passaggio alla scuola dei “grandi””. ULTIMI POSTI DISPONIBILI\, per il periodo da FEBBRAIO A LUGLIO.\nPer maggiori informazioni contattateci via e-mail scrivendo a lulu@ilgiardinodilulu.it o telefonandoci allo 06 43418005 \n#ilgiardinodilulu #roma #backtoschool \n
URL:https://ilgiardinodilulu.it/event/iscrizioni-nido-lanno-scolastico-20182019/
ATTACH;FMTTYPE=image/jpeg:https://ilgiardinodilulu.it/wp-content/uploads/2018/07/ISCRIZIONI-FEB.jpg
END:VEVENT
END:VCALENDAR