BEGIN:VCALENDAR
VERSION:2.0
PRODID:-//Il Giardino di Lulù - ECPv5.0.1//NONSGML v1.0//EN
CALSCALE:GREGORIAN
METHOD:PUBLISH
X-WR-CALNAME:Il Giardino di Lulù
X-ORIGINAL-URL:https://ilgiardinodilulu.it
X-WR-CALDESC:Eventi per Il Giardino di Lulù
BEGIN:VTIMEZONE
TZID:Europe/Rome
BEGIN:DAYLIGHT
TZOFFSETFROM:+0100
TZOFFSETTO:+0200
TZNAME:CEST
DTSTART:20190331T010000
END:DAYLIGHT
BEGIN:STANDARD
TZOFFSETFROM:+0200
TZOFFSETTO:+0100
TZNAME:CET
DTSTART:20191027T010000
END:STANDARD
BEGIN:DAYLIGHT
TZOFFSETFROM:+0100
TZOFFSETTO:+0200
TZNAME:CEST
DTSTART:20200329T010000
END:DAYLIGHT
BEGIN:STANDARD
TZOFFSETFROM:+0200
TZOFFSETTO:+0100
TZNAME:CET
DTSTART:20201025T010000
END:STANDARD
END:VTIMEZONE
BEGIN:VEVENT
DTSTART;VALUE=DATE:20191207
DTEND;VALUE=DATE:20200202
DTSTAMP:20260421T141505
CREATED:20191205T134436Z
LAST-MODIFIED:20191206T130858Z
UID:5177-1575676800-1580601599@ilgiardinodilulu.it
SUMMARY:Lab Arte
DESCRIPTION:Tornano i #Lab a Il Giardino di Lulù – Ludoteca\, Asilo Nido\, Animazione!\nTutti i Venerdì\, dalle 17:00 alle 18:00 è la creatività a far da padrona! \nCosa c’è di più divertente e stimolante di impiastricciarsi le mani con colla\, colori e materiali sempre diversi?\nManualità\, fantasia e divertimento sono tutto ciò che occorre per creare ogni venerdì qualcosa di nuovo. \nPer info e prenotazioni potete contattarci via mail all’indirizzo lulu@giardinodilulu.it\no telefonare allo 0643418005 \n
URL:https://ilgiardinodilulu.it/event/lab-arte/
CATEGORIES:evento
ATTACH;FMTTYPE=image/jpeg:https://ilgiardinodilulu.it/wp-content/uploads/2019/12/lab-arte-cdb-evento-e1575553394538.jpg
END:VEVENT
END:VCALENDAR