BEGIN:VCALENDAR
VERSION:2.0
PRODID:-//Il Giardino di Lulù - ECPv5.0.1//NONSGML v1.0//EN
CALSCALE:GREGORIAN
METHOD:PUBLISH
X-WR-CALNAME:Il Giardino di Lulù
X-ORIGINAL-URL:https://ilgiardinodilulu.it
X-WR-CALDESC:Eventi per Il Giardino di Lulù
BEGIN:VTIMEZONE
TZID:UTC
BEGIN:STANDARD
TZOFFSETFROM:+0000
TZOFFSETTO:+0000
TZNAME:UTC
DTSTART:20170101T000000
END:STANDARD
END:VTIMEZONE
BEGIN:VEVENT
DTSTART;TZID=UTC:20170308T103000
DTEND;TZID=UTC:20170308T113000
DTSTAMP:20260421T232037
CREATED:20170306T115523Z
LAST-MODIFIED:20170310T130610Z
UID:4435-1488969000-1488972600@ilgiardinodilulu.it
SUMMARY:SPETTACOLO DI BURATTINI E OGGETTI NUVOLA BLU
DESCRIPTION:  \nDue personaggi simpatici giungono davanti ai bambini.\nHanno due valigie e decidono di raccontare una storia.\nComincia così un dialogo musicale in cui si deciderà cosa raccontare e alla fine la scelta cadrà su un testo piccolo e ironico dal titolo “La nuvola blu”.\nC’era una volta una piccola nuvola blu che a differenza delle altre nubi non faceva mai diluviare ma era sempre felice e sorridente.\nSi divertiva a fare i dispetti ma aveva un cuore d’oro.\nUn giorno trovò una città in cui vide un grandissimo incendio e allora decise di…\nL’arte della narrazione e dell’animazione degli oggetti è messa a servizio della storia piccola e tenera adatta ai bambini molto piccoli. Pochissime le parole\, molte le immagini\, i suoni\, le musiche.\nAttraverso l’eleganza\, la semplicità e la poeticità dei disegni\, i piccoli spettatori saranno accompagnati con ironia in una storia in cui trovano spazio tematiche importanti come l’amicizia\, l’eliminazione del pregiudizio e il valore della differenza che ognuno di noi porta.\nPerché le nuvole non devono essere sempre tutte bianche. \nBambini da 1 anno.\nCosto 10 € (1 adulto+1 bambino)\, 5 € fratello/sorella/altro adulto\nprenotazione consigliasta \n
URL:https://ilgiardinodilulu.it/event/lettura-animata-nuvola-blu/
ATTACH;FMTTYPE=image/jpeg:https://ilgiardinodilulu.it/wp-content/uploads/2017/03/nuvola-blu.jpeg
END:VEVENT
END:VCALENDAR