BEGIN:VCALENDAR
VERSION:2.0
PRODID:-//Il Giardino di Lulù - ECPv5.0.1//NONSGML v1.0//EN
CALSCALE:GREGORIAN
METHOD:PUBLISH
X-WR-CALNAME:Il Giardino di Lulù
X-ORIGINAL-URL:https://ilgiardinodilulu.it
X-WR-CALDESC:Eventi per Il Giardino di Lulù
BEGIN:VTIMEZONE
TZID:UTC
BEGIN:STANDARD
TZOFFSETFROM:+0000
TZOFFSETTO:+0000
TZNAME:UTC
DTSTART:20180101T000000
END:STANDARD
END:VTIMEZONE
BEGIN:VEVENT
DTSTART;TZID=UTC:20180504T080000
DTEND;TZID=UTC:20180729T170000
DTSTAMP:20260421T184700
CREATED:20180504T094858Z
LAST-MODIFIED:20180730T112139Z
UID:4572-1525420800-1532883600@ilgiardinodilulu.it
SUMMARY:Lulù Village Centro Estivo
DESCRIPTION:L’ESTATE STA TORNANDO! E con lei anche il nostro #Centroestivo a Villa Ada.\nSport\, Giochi\, Acqua\, Teatro\, Musica\, Cavallo.\nTutto a cura del nostro staff.\nAvremo -come sempre- una zona coperta e i nostri piccoli ospiti potranno mangiare nella splendida cornice del Laghetto di Villa Ada. \n  \nPer informazioni e prenotazioni\, seguite la nostra Pagina FB\, il nostro Profilo IG e contattaci:\nwww.ilgiardinodilulu.it\nlulu@ilgiardinodilulu.it\n06.43418005\nVi aspettiamo da giugno per tutta l’estate in via di ponte salario 28\n#kids #summer #school #eventi #roma \n
URL:https://ilgiardinodilulu.it/event/lulu-village-centro-estivo/
ATTACH;FMTTYPE=image/jpeg:https://ilgiardinodilulu.it/wp-content/uploads/2018/05/centro-estivo-2018.jpg
END:VEVENT
END:VCALENDAR