BEGIN:VCALENDAR
VERSION:2.0
PRODID:-//Il Giardino di Lulù - ECPv5.0.1//NONSGML v1.0//EN
CALSCALE:GREGORIAN
METHOD:PUBLISH
X-WR-CALNAME:Il Giardino di Lulù
X-ORIGINAL-URL:https://ilgiardinodilulu.it
X-WR-CALDESC:Eventi per Il Giardino di Lulù
BEGIN:VTIMEZONE
TZID:Europe/Rome
BEGIN:DAYLIGHT
TZOFFSETFROM:+0100
TZOFFSETTO:+0200
TZNAME:CEST
DTSTART:20220327T010000
END:DAYLIGHT
BEGIN:STANDARD
TZOFFSETFROM:+0200
TZOFFSETTO:+0100
TZNAME:CET
DTSTART:20221030T010000
END:STANDARD
END:VTIMEZONE
BEGIN:VEVENT
DTSTART;TZID=Europe/Rome:20220615T080000
DTEND;TZID=Europe/Rome:20220731T170000
DTSTAMP:20260421T124530
CREATED:20220615T143942Z
LAST-MODIFIED:20220615T143942Z
UID:5352-1655280000-1659286800@ilgiardinodilulu.it
SUMMARY:LuluVillage 2022 Villa Borghese
DESCRIPTION:LULù VILLAGE 2022\nCENTRO ESTIVO\n\nCi siamo\, il Lulù Village sta per tornare!\nDal 4 al 29 Luglio il nostro centro estivo per i bimbi dai 3 agli 11 anni aprirà le porte.\nAll’interno della splendida cornice de Il Giardino Incantato\, zona Villa Borghese\, saranno tante le attività che riempiranno le giornate dei nostri piccoli ospiti\, con uno staff qualificato ed in piena sicurezza!\nLe giornate estive trascorreranno serene tra Giochi   Psicomotricità   Acqua\nArte  Musica  Teatro  Letture  Relax\n\nLULù VILLAGE 2022\nCENTRO ESTIVO\n\nCi siamo\, il Lulù Village sta per tornare!\nDal 4 al 29 Luglio il nostro centro estivo per i bimbi dai 3 agli 11 anni aprirà le porte.\nAll’interno della splendida cornice de Il Giardino Incantato\, zona Villa Borghese\, saranno tante le attività che riempiranno le giornate dei nostri piccoli ospiti\, con uno staff qualificato ed in piena sicurezza!\nLe giornate estive trascorreranno serene tra Giochi   Psicomotricità   Acqua\nArte  Musica  Teatro  Letture  Relax\nPer conoscere costi\, disponibilità e per ogni altra informazione non esitare a contattarci al 3349594413 o scrivere all’indirizzo lulu@ilgiardinodilulu.it\n\n\n\n
URL:https://ilgiardinodilulu.it/event/luluvillage-2022-villa-borghese/
CATEGORIES:evento
ATTACH;FMTTYPE=image/png:https://ilgiardinodilulu.it/wp-content/uploads/2022/06/luluvillage2022.png
END:VEVENT
END:VCALENDAR