BEGIN:VCALENDAR
VERSION:2.0
PRODID:-//Il Giardino di Lulù - ECPv5.0.1//NONSGML v1.0//EN
CALSCALE:GREGORIAN
METHOD:PUBLISH
X-WR-CALNAME:Il Giardino di Lulù
X-ORIGINAL-URL:https://ilgiardinodilulu.it
X-WR-CALDESC:Eventi per Il Giardino di Lulù
BEGIN:VTIMEZONE
TZID:UTC
BEGIN:STANDARD
TZOFFSETFROM:+0000
TZOFFSETTO:+0000
TZNAME:UTC
DTSTART:20190101T000000
END:STANDARD
END:VTIMEZONE
BEGIN:VEVENT
DTSTART;TZID=UTC:20190403T080000
DTEND;TZID=UTC:20190430T170000
DTSTAMP:20260421T155721
CREATED:20190403T103447Z
LAST-MODIFIED:20190403T103447Z
UID:4697-1554278400-1556643600@ilgiardinodilulu.it
SUMMARY:OPEN DAY - 6 APRILE  10.30
DESCRIPTION:OPEN DAY- 6 APRILE 2019\nVenite a conoscere la meraviglia!\nIl cancello viola de Il Giardino di Lulù – Ludoteca\, Spazio Be.Bi.\, Asilo Nido spalanca le sue porte sabato 6 aprile 2019\, dalle 10.30 alle 12.00!\nLa nostra struttura aderisce infatti alle giornate dedicate dalla Manifestazione GDD al Bene Comune: due ore dedicate a storie divertenti e ricche di morale per chiunque desideri partecipare.\nAvrete modo di visitare la struttura\, conoscere il personale e le educatrici.\nI vostri bimbi potranno ascoltare letture divertenti e fare merenda tutti insieme!\nVi racconteremo anche la nostra storia\, che si arricchisce ogni giorno di amore\, cura e di stimolanti attivita’.\nMusica\, yoga\, cucina dedicata e una filosofia votata alla crescita di ognuno di noi vi aspettano!\nPer informazioni: lulu@ilgiardinodilulu.it \nGood Deeds Day Italia\n#insiemeperilbenecomune\n#gooddeedsdayitalia\n#openday\n#backtoschool\n#laboratorio \n
URL:https://ilgiardinodilulu.it/event/open-day-6-aprile-10-30/
ATTACH;FMTTYPE=image/jpeg:https://ilgiardinodilulu.it/wp-content/uploads/2019/04/55618339_2129876650430963_6661641571999416320_n.jpg
END:VEVENT
END:VCALENDAR