BEGIN:VCALENDAR
VERSION:2.0
PRODID:-//Il Giardino di Lulù - ECPv5.0.1//NONSGML v1.0//EN
CALSCALE:GREGORIAN
METHOD:PUBLISH
X-WR-CALNAME:Il Giardino di Lulù
X-ORIGINAL-URL:https://ilgiardinodilulu.it
X-WR-CALDESC:Eventi per Il Giardino di Lulù
BEGIN:VTIMEZONE
TZID:UTC
BEGIN:STANDARD
TZOFFSETFROM:+0000
TZOFFSETTO:+0000
TZNAME:UTC
DTSTART:20180101T000000
END:STANDARD
END:VTIMEZONE
BEGIN:VEVENT
DTSTART;TZID=UTC:20180326T080000
DTEND;TZID=UTC:20180408T170000
DTSTAMP:20260421T202448
CREATED:20180326T101407Z
LAST-MODIFIED:20180326T101407Z
UID:4562-1522051200-1523206800@ilgiardinodilulu.it
SUMMARY:Open Day a Il Giardino di Lulu’!
DESCRIPTION:Breakfast on Garden!\nOpen Day a Il Giardino di Lulu’!\nSi mangia\, si gioca\, si chiacchiera e si curiosa!\nVi aspettiamo sabato 7 Aprile 2018\, tra le 1030 e le 1230.\nPer chi vuole incontrarci\, per chi non ha mai oltrepassato il cancello viola\, per chi vuole saperne di piu’.\nE -perche’no?- per chi vuole stendere una coperta al sole.\nPer informazioni e prenotazioni:\nlulu@ilgiardinodilulu.it\nTel. 0643418005\n#kids #bambini #evento #roma #municipioIII #scuola \n
URL:https://ilgiardinodilulu.it/event/open-day-giardino-lulu/
ATTACH;FMTTYPE=image/jpeg:https://ilgiardinodilulu.it/wp-content/uploads/2018/03/openday-2018.jpg
END:VEVENT
END:VCALENDAR