BEGIN:VCALENDAR
VERSION:2.0
PRODID:-//Il Giardino di Lulù - ECPv5.0.1//NONSGML v1.0//EN
CALSCALE:GREGORIAN
METHOD:PUBLISH
X-WR-CALNAME:Il Giardino di Lulù
X-ORIGINAL-URL:https://ilgiardinodilulu.it
X-WR-CALDESC:Eventi per Il Giardino di Lulù
BEGIN:VTIMEZONE
TZID:UTC
BEGIN:STANDARD
TZOFFSETFROM:+0000
TZOFFSETTO:+0000
TZNAME:UTC
DTSTART:20170101T000000
END:STANDARD
END:VTIMEZONE
BEGIN:VEVENT
DTSTART;TZID=UTC:20170328T080000
DTEND;TZID=UTC:20170419T170000
DTSTAMP:20260421T213425
CREATED:20170328T100559Z
LAST-MODIFIED:20170405T105901Z
UID:4461-1490688000-1492621200@ilgiardinodilulu.it
SUMMARY:OPEN DAY
DESCRIPTION:OPEN DAY AL GIARDINO DI LULU’!\nMERCOLEDI’ 19 APRILE \nVenite. provate. Entrate. Varcate una soglia. La soglia fisica di uno spazio. La soglia emozionale di un diverso modo di vivere l’educazione dei bambini. La soglia empatica di un mondo costruito sul concetto della meraviglia.\nVenite a provare\, a condividere con noi un pomeriggio per divertirsi e conoscersi.\nGiochi all’aria aperta. La merenda tutti insieme.\nLo spazio ed il tempo necessari per informazioni e consigli.\n**Sconti per i nuovi bimbi che si iscriveranno il giorno dell’Open Day** \n
URL:https://ilgiardinodilulu.it/event/open-day/
ATTACH;FMTTYPE=image/jpeg:https://ilgiardinodilulu.it/wp-content/uploads/2017/03/cancello-viola.jpeg
END:VEVENT
END:VCALENDAR