BEGIN:VCALENDAR
VERSION:2.0
PRODID:-//Il Giardino di Lulù - ECPv5.0.1//NONSGML v1.0//EN
CALSCALE:GREGORIAN
METHOD:PUBLISH
X-WR-CALNAME:Il Giardino di Lulù
X-ORIGINAL-URL:https://ilgiardinodilulu.it
X-WR-CALDESC:Eventi per Il Giardino di Lulù
BEGIN:VTIMEZONE
TZID:UTC
BEGIN:STANDARD
TZOFFSETFROM:+0000
TZOFFSETTO:+0000
TZNAME:UTC
DTSTART:20160101T000000
END:STANDARD
END:VTIMEZONE
BEGIN:VEVENT
DTSTART;TZID=UTC:20160901T160000
DTEND;TZID=UTC:20170228T180000
DTSTAMP:20260422T005113
CREATED:20160725T105040Z
LAST-MODIFIED:20170308T125714Z
UID:4338-1472745600-1488304800@ilgiardinodilulu.it
SUMMARY:DOPO SCUOLA AL GIARDINO. DA SETTEMBRE SI VA A LEZIONE DI EMOZIONI
DESCRIPTION:La nostra creatività non si ferma mai. Non smettiamo mai di pensare ai vostri bimbi\, di immaginare un modo nuovo di far crescere emozioni. Ogni idea deve travalicare le mura del giardino\, oltrepassare i confini e rendere il nostro uno spazio esperenziale. Propositivo. Emozionale. Di crescita.  \nDa settembre\, dalle 16 alle 18\, per bambini da 1 a 5anni\, ci sara’ modo di giocare\, svolgere attività guidate\, socializzare.  \nOgni giorno un’ attività diversa tra quelle usualmente proposte dalla nostra struttura. Ad esempio manipolazione\, lettura\, pittura\, riciclo creativo. \n
URL:https://ilgiardinodilulu.it/event/scuola-al-giardino-settembre-si-va-lezione-emozioni/
LOCATION:Il Giardino di Lulù\, Via F. Pais Serra 11a\, Roma\, 00139\, Italia
ATTACH;FMTTYPE=image/jpeg:https://ilgiardinodilulu.it/wp-content/uploads/2016/07/5.jpg
END:VEVENT
END:VCALENDAR