BEGIN:VCALENDAR
VERSION:2.0
PRODID:-//Il Giardino di Lulù - ECPv5.0.1//NONSGML v1.0//EN
CALSCALE:GREGORIAN
METHOD:PUBLISH
X-WR-CALNAME:Il Giardino di Lulù
X-ORIGINAL-URL:https://ilgiardinodilulu.it
X-WR-CALDESC:Eventi per Il Giardino di Lulù
BEGIN:VTIMEZONE
TZID:Europe/Rome
BEGIN:DAYLIGHT
TZOFFSETFROM:+0100
TZOFFSETTO:+0200
TZNAME:CEST
DTSTART:20200329T010000
END:DAYLIGHT
BEGIN:STANDARD
TZOFFSETFROM:+0200
TZOFFSETTO:+0100
TZNAME:CET
DTSTART:20201025T010000
END:STANDARD
END:VTIMEZONE
BEGIN:VEVENT
DTSTART;TZID=Europe/Rome:20200220T080000
DTEND;TZID=Europe/Rome:20200420T170000
DTSTAMP:20260421T141120
CREATED:20200220T110322Z
LAST-MODIFIED:20200220T110516Z
UID:5247-1582185600-1587402000@ilgiardinodilulu.it
SUMMARY:Spazio Gioca con Me
DESCRIPTION:Tutti i Martedì\, dalle 16:45 alle 18:00\, a Il Giardino di Lulù – Ludoteca\, Asilo Nido\, Animazione torna lo spazio Gioca con Me: letture ad alta voce\, giochi sensoriali\, canzoni mimate\, girotondi e poi una merenda tutti insieme. \nDedicato ai bimbi da 0 a 36 mesi\, uno spazio che aiuti a socializzare con altri bambini e utile ad approfondire la relazione con i propri genitori.\nOgni settimana ci aspetta un’attività diversa che aiuti a stimolare le abilità e le potenzialità di ogni bambino e che ci faccia divertire insieme! \nAttività gratuita con prenotazioni obbligatoria.\nPotete contattarci via mail all’indirizzo lulu@ilgiardinodilulu.it\no telefonare allo 0643418005 \n
URL:https://ilgiardinodilulu.it/event/spazio-gioca-con-me/
CATEGORIES:evento
ATTACH;FMTTYPE=image/jpeg:https://ilgiardinodilulu.it/wp-content/uploads/2020/02/gioca-con-me.jpg
END:VEVENT
END:VCALENDAR